BEGIN:VCALENDAR
VERSION:2.0
PRODID:-//Ignacio Mora - ECPv6.15.20//NONSGML v1.0//EN
CALSCALE:GREGORIAN
METHOD:PUBLISH
X-ORIGINAL-URL:https://ignaciomora.com
X-WR-CALDESC:Eventos para Ignacio Mora
REFRESH-INTERVAL;VALUE=DURATION:PT1H
X-Robots-Tag:noindex
X-PUBLISHED-TTL:PT1H
BEGIN:VTIMEZONE
TZID:America/Montevideo
BEGIN:STANDARD
TZOFFSETFROM:-0300
TZOFFSETTO:-0300
TZNAME:-03
DTSTART:20240101T000000
END:STANDARD
END:VTIMEZONE
BEGIN:VEVENT
DTSTART;TZID=America/Montevideo:20251119T180000
DTEND;TZID=America/Montevideo:20251119T220000
DTSTAMP:20260425T085340
CREATED:20251023T125323Z
LAST-MODIFIED:20251023T125323Z
UID:2038-1763575200-1763589600@ignaciomora.com
SUMMARY:Constelaciones Familiares 19 de Noviembre
DESCRIPTION:Próximo taller de Constelaciones Familiares: miércoles 19 de Noviembre\, de 18 a 22 horas. \nPodés plantear un tema para constelar o simplemente participar del espacio terapéutico grupal. Ambas formas son movilizadoras y enriquecedoras. \n👉🏽 La transformación sucede cuando nos abrimos a mirar de una manera diferente. \n📍 El encuentro se realizará en Parque Rodó\, Montevideo. Una vez que confirmes tu inscripción\, te enviamos la dirección exacta. \nSi te interesa esta propuesta\, contactáme por más información y para reservar tu lugar. \n¡Te espero!
URL:https://ignaciomora.com/evento/constelaciones-familiares-19-de-noviembre/
LOCATION:Parque Rodo\, Montevideo\, Montevideo\, Uruguay
CATEGORIES:Taller Constelaciones Familiares
ATTACH;FMTTYPE=image/jpeg:https://ignaciomora.com/wp-content/uploads/2025/10/Constelaciones-Familiares-19-Noviembre.jpg
ORGANIZER;CN="Ignacio Mora":MAILTO:info@ignaciomora.com
END:VEVENT
BEGIN:VEVENT
DTSTART;TZID=America/Montevideo:20251210T180000
DTEND;TZID=America/Montevideo:20251210T220000
DTSTAMP:20260425T085340
CREATED:20251119T163836Z
LAST-MODIFIED:20251119T163836Z
UID:2041-1765389600-1765404000@ignaciomora.com
SUMMARY:Constelaciones Familiares 10 de Diciembre
DESCRIPTION:Próximo taller de Constelaciones Familiares: miércoles 10 de Diciembre\, de 18 a 22 horas. \nPodés plantear un tema para constelar o simplemente participar del espacio terapéutico grupal. Ambas formas son movilizadoras y enriquecedoras. \n👉🏽 La transformación sucede cuando nos abrimos a mirar de una manera diferente. \n📍 El encuentro se realizará en Parque Rodó\, Montevideo. Una vez que confirmes tu inscripción\, te enviamos la dirección exacta. \nSi te interesa esta propuesta\, contactáme por más información y para reservar tu lugar. \n¡Te espero!
URL:https://ignaciomora.com/evento/constelaciones-familiares-10-de-diciembre/
LOCATION:Parque Rodo\, Montevideo\, Montevideo\, Uruguay
CATEGORIES:Taller Constelaciones Familiares
ATTACH;FMTTYPE=image/jpeg:https://ignaciomora.com/wp-content/uploads/2025/11/Constelaciones-Familiares-10-de-Diciembre.jpg
ORGANIZER;CN="Ignacio Mora":MAILTO:info@ignaciomora.com
END:VEVENT
BEGIN:VEVENT
DTSTART;TZID=America/Montevideo:20260321T100000
DTEND;TZID=America/Montevideo:20260321T140000
DTSTAMP:20260425T085340
CREATED:20260206T145544Z
LAST-MODIFIED:20260302T151827Z
UID:2295-1774087200-1774101600@ignaciomora.com
SUMMARY:Constelaciones Familiares 21 de Marzo
DESCRIPTION:Próximo taller de Constelaciones Familiares: sábado 21 de Marzo\, de 10 a 14 horas. \nPodés plantear un tema para constelar o simplemente participar del espacio terapéutico grupal. Ambas formas son movilizadoras y enriquecedoras. \n👉🏽 La transformación sucede cuando nos abrimos a mirar de una manera diferente. \n📍 El encuentro se realizará en el Prado\, Montevideo. Una vez que confirmes tu inscripción\, te enviamos la dirección exacta. \nSi te interesa esta propuesta\, contactáme por más información y para reservar tu lugar. \n¡Te espero!
URL:https://ignaciomora.com/evento/constelaciones-familiares-21-marzo/
LOCATION:Prado\, Montevideo\, Uruguay
CATEGORIES:Taller Constelaciones Familiares
ATTACH;FMTTYPE=image/jpeg:https://ignaciomora.com/wp-content/uploads/2026/03/Constelaciones-familiares-marzo-21.jpg
ORGANIZER;CN="Ignacio Mora":MAILTO:info@ignaciomora.com
END:VEVENT
BEGIN:VEVENT
DTSTART;TZID=America/Montevideo:20260418T100000
DTEND;TZID=America/Montevideo:20260418T140000
DTSTAMP:20260425T085340
CREATED:20260327T231648Z
LAST-MODIFIED:20260327T231648Z
UID:2376-1776506400-1776520800@ignaciomora.com
SUMMARY:Constelaciones Familiares 18 de Abril
DESCRIPTION:Próximo taller de Constelaciones Familiares: sábado 18 de Abril\, de 10 a 14 horas. \nPodés plantear un tema para constelar o simplemente participar del espacio terapéutico grupal. Ambas formas son movilizadoras y enriquecedoras. \n👉🏽 La transformación sucede cuando nos abrimos a mirar de una manera diferente. \n📍 El encuentro se realizará en el Prado\, Montevideo. Una vez que confirmes tu inscripción\, te enviamos la dirección exacta. \nSi te interesa esta propuesta\, contactáme por más información y para reservar tu lugar. \n¡Te espero!
URL:https://ignaciomora.com/evento/constelaciones-familiares-18-abril/
LOCATION:Prado\, Montevideo\, Uruguay
CATEGORIES:Taller Constelaciones Familiares
ATTACH;FMTTYPE=image/jpeg:https://ignaciomora.com/wp-content/uploads/2026/03/Constelaciones-Familiares-18-Abril.jpg
ORGANIZER;CN="Ignacio Mora":MAILTO:info@ignaciomora.com
END:VEVENT
BEGIN:VEVENT
DTSTART;TZID=America/Montevideo:20260523T100000
DTEND;TZID=America/Montevideo:20260523T140000
DTSTAMP:20260425T085340
CREATED:20260410T122625Z
LAST-MODIFIED:20260424T174047Z
UID:2391-1779530400-1779544800@ignaciomora.com
SUMMARY:Constelaciones Familiares 23 de Mayo
DESCRIPTION:Próximo taller de Constelaciones Familiares: sábado 23 de Mayo\, de 10 a 14 horas. \nPodés plantear un tema para constelar o simplemente participar del espacio terapéutico grupal. Ambas formas son movilizadoras y enriquecedoras. \n👉🏽 La transformación sucede cuando nos abrimos a mirar de una manera diferente. \n📍 El encuentro se realizará en el Prado\, Montevideo. Una vez que confirmes tu inscripción\, te enviamos la dirección exacta. \nSi te interesa esta propuesta\, contactáme por más información y para reservar tu lugar. \n¡Te espero!
URL:https://ignaciomora.com/evento/constelaciones-familiares-23-mayo/
LOCATION:Prado\, Montevideo\, Uruguay
CATEGORIES:Taller Constelaciones Familiares
ATTACH;FMTTYPE=image/jpeg:https://ignaciomora.com/wp-content/uploads/2026/04/Constelaciones-Familiares-23-de-Mayo.jpg
ORGANIZER;CN="Ignacio Mora":MAILTO:info@ignaciomora.com
END:VEVENT
END:VCALENDAR